BEGIN:VCALENDAR
VERSION:2.0
PRODID:-//DIOCESI DI ROMA - ECPv4.6.14.1//NONSGML v1.0//EN
CALSCALE:GREGORIAN
METHOD:PUBLISH
X-WR-CALNAME:DIOCESI DI ROMA
X-ORIGINAL-URL:https://www.diocesidiroma.it
X-WR-CALDESC:Eventi per DIOCESI DI ROMA
BEGIN:VEVENT
DTSTART;TZID=Europe/Rome:20211019T190000
DTEND;TZID=Europe/Rome:20211019T190000
DTSTAMP:20260420T213336
CREATED:20211015T080613Z
LAST-MODIFIED:20211015T080707Z
UID:18546-1634670000-1634670000@www.diocesidiroma.it
SUMMARY:Celebra la Messa nella parrocchia di Nostra Signora di Valme
DESCRIPTION:Celebra la Messa nella parrocchia di Nostra Signora di Valme. \n
URL:https://www.diocesidiroma.it/event/celebra-la-messa-nella-parrocchia-di-nostra-signora-di-valme/
CATEGORIES:NON USARE --- Agenda del Vicario
END:VEVENT
END:VCALENDAR