BEGIN:VCALENDAR
VERSION:2.0
PRODID:-//DIOCESI DI ROMA - ECPv4.6.14.1//NONSGML v1.0//EN
CALSCALE:GREGORIAN
METHOD:PUBLISH
X-WR-CALNAME:DIOCESI DI ROMA
X-ORIGINAL-URL:https://www.diocesidiroma.it
X-WR-CALDESC:Eventi per DIOCESI DI ROMA
BEGIN:VEVENT
DTSTART;TZID=Europe/Rome:20210313T183000
DTEND;TZID=Europe/Rome:20210313T183000
DTSTAMP:20260420T200129
CREATED:20210305T094413Z
LAST-MODIFIED:20210305T094413Z
UID:14085-1615660200-1615660200@www.diocesidiroma.it
SUMMARY:Celebra la Messa nella parrocchia di S. Josemaria Escrivà
DESCRIPTION:Celebra la Messa nella parrocchia di S. Josemaria Escrivà. \n
URL:https://www.diocesidiroma.it/event/celebra-la-messa-nella-parrocchia-di-s-josemaria-escriva/
CATEGORIES:NON USARE --- Agenda del Vicario
END:VEVENT
END:VCALENDAR