BEGIN:VCALENDAR
VERSION:2.0
PRODID:-//DIOCESI DI ROMA - ECPv4.6.14.1//NONSGML v1.0//EN
CALSCALE:GREGORIAN
METHOD:PUBLISH
X-WR-CALNAME:DIOCESI DI ROMA
X-ORIGINAL-URL:https://www.diocesidiroma.it
X-WR-CALDESC:Eventi per DIOCESI DI ROMA
BEGIN:VEVENT
DTSTART;TZID=Europe/Rome:20230620T190000
DTEND;TZID=Europe/Rome:20230620T190000
DTSTAMP:20260420T214200
CREATED:20230619T094833Z
LAST-MODIFIED:20230619T094833Z
UID:26647-1687287600-1687287600@www.diocesidiroma.it
SUMMARY:Celebra la Messa nella Parrocchia di S. Maria del Buon Consiglio in occasione del riconoscimento delle virtù eroiche di Arnaldo Canepa
DESCRIPTION:Celebra la Messa nella Parrocchia di S. Maria del Buon Consiglio in occasione del riconoscimento delle virtù eroiche di Arnaldo Canepa \n
URL:https://www.diocesidiroma.it/event/celebra-la-messa-nella-parrocchia-di-s-maria-del-buon-consiglio-in-occasione-del-riconoscimento-delle-virtu-eroiche-di-arnaldo-canepa/
CATEGORIES:NON USARE --- Agenda del Vicario
END:VEVENT
END:VCALENDAR