BEGIN:VCALENDAR
VERSION:2.0
PRODID:-//DIOCESI DI ROMA - ECPv4.6.14.1//NONSGML v1.0//EN
CALSCALE:GREGORIAN
METHOD:PUBLISH
X-WR-CALNAME:DIOCESI DI ROMA
X-ORIGINAL-URL:https://www.diocesidiroma.it
X-WR-CALDESC:Eventi per DIOCESI DI ROMA
BEGIN:VEVENT
DTSTART;TZID=Europe/Rome:20220116T110000
DTEND;TZID=Europe/Rome:20220116T110000
DTSTAMP:20260420T182828
CREATED:20220105T133244Z
LAST-MODIFIED:20220105T133250Z
UID:19787-1642330800-1642330800@www.diocesidiroma.it
SUMMARY:Celebra la Messa nella parrocchia di San Bartolomeo Apostolo
DESCRIPTION:Celebra la Messa nella parrocchia di San Bartolomeo Apostolo. \n
URL:https://www.diocesidiroma.it/event/celebra-la-messa-nella-parrocchia-di-san-bartolomeo-apostolo/
CATEGORIES:NON USARE --- Agenda del Vicario
END:VEVENT
END:VCALENDAR