BEGIN:VCALENDAR
VERSION:2.0
PRODID:-//DIOCESI DI ROMA - ECPv4.6.14.1//NONSGML v1.0//EN
CALSCALE:GREGORIAN
METHOD:PUBLISH
X-WR-CALNAME:DIOCESI DI ROMA
X-ORIGINAL-URL:https://www.diocesidiroma.it
X-WR-CALDESC:Eventi per DIOCESI DI ROMA
BEGIN:VEVENT
DTSTART;TZID=Europe/Rome:20220206T110000
DTEND;TZID=Europe/Rome:20220206T110000
DTSTAMP:20260420T200938
CREATED:20220129T155326Z
LAST-MODIFIED:20220129T155326Z
UID:20118-1644145200-1644145200@www.diocesidiroma.it
SUMMARY:Celebra la Messa nella Parrocchia di San Bruno in occasione della visita pastorale
DESCRIPTION:Celebra la Messa nella Parrocchia di San Bruno in occasione della visita pastorale. \n
URL:https://www.diocesidiroma.it/event/celebra-la-messa-nella-parrocchia-di-san-bruno-in-occasione-della-visita-pastorale/
CATEGORIES:NON USARE --- Agenda del Vicario
END:VEVENT
END:VCALENDAR