BEGIN:VCALENDAR
VERSION:2.0
PRODID:-//DIOCESI DI ROMA - ECPv4.6.14.1//NONSGML v1.0//EN
CALSCALE:GREGORIAN
METHOD:PUBLISH
X-WR-CALNAME:DIOCESI DI ROMA
X-ORIGINAL-URL:https://www.diocesidiroma.it
X-WR-CALDESC:Eventi per DIOCESI DI ROMA
BEGIN:VEVENT
DTSTART;TZID=Europe/Rome:20201016T180000
DTEND;TZID=Europe/Rome:20201016T180000
DTSTAMP:20260420T183106
CREATED:20201009T083123Z
LAST-MODIFIED:20201009T083130Z
UID:12065-1602871200-1602871200@www.diocesidiroma.it
SUMMARY:Celebra la Messa nella parrocchia di San Crisogono in occasione della memoria della Beata Anna Maria Taigi
DESCRIPTION:Celebra la Messa nella parrocchia di San Crisogono in occasione della memoria della Beata Anna Maria Taigi. \n
URL:https://www.diocesidiroma.it/event/celebra-la-messa-nella-parrocchia-di-san-crisogono-in-occasione-della-memoria-della-beata-anna-maria-taigi/
CATEGORIES:NON USARE --- Agenda del Vicario
END:VEVENT
END:VCALENDAR