BEGIN:VCALENDAR
VERSION:2.0
PRODID:-//DIOCESI DI ROMA - ECPv4.6.14.1//NONSGML v1.0//EN
CALSCALE:GREGORIAN
METHOD:PUBLISH
X-WR-CALNAME:DIOCESI DI ROMA
X-ORIGINAL-URL:https://www.diocesidiroma.it
X-WR-CALDESC:Eventi per DIOCESI DI ROMA
BEGIN:VEVENT
DTSTART;TZID=Europe/Rome:20240310T110000
DTEND;TZID=Europe/Rome:20240310T170000
DTSTAMP:20260420T182327
CREATED:20240301T112401Z
LAST-MODIFIED:20240301T112401Z
UID:29066-1710068400-1710090000@www.diocesidiroma.it
SUMMARY:Celebra la Messa nella Parrocchia di San Felice da Cantalice in occasione della visita pastorale
DESCRIPTION:Celebra la Messa nella Parrocchia di San Felice da Cantalice in occasione della visita pastorale. \n
URL:https://www.diocesidiroma.it/event/celebra-la-messa-nella-parrocchia-di-san-felice-da-cantalice-in-occasione-della-visita-pastorale/
CATEGORIES:NON USARE --- Agenda del Vicario
END:VEVENT
END:VCALENDAR