BEGIN:VCALENDAR
VERSION:2.0
PRODID:-//DIOCESI DI ROMA - ECPv4.6.14.1//NONSGML v1.0//EN
CALSCALE:GREGORIAN
METHOD:PUBLISH
X-WR-CALNAME:DIOCESI DI ROMA
X-ORIGINAL-URL:https://www.diocesidiroma.it
X-WR-CALDESC:Eventi per DIOCESI DI ROMA
BEGIN:VEVENT
DTSTART;TZID=Europe/Rome:20221218T100000
DTEND;TZID=Europe/Rome:20221218T100000
DTSTAMP:20260420T170400
CREATED:20221209T101508Z
LAST-MODIFIED:20221209T101508Z
UID:24427-1671357600-1671357600@www.diocesidiroma.it
SUMMARY:Celebra la Messa nella Parrocchia di San Filippo in Eurosia in occasione del 50° anniversario della erezione della Parrocchia
DESCRIPTION:Celebra la Messa nella Parrocchia di San Filippo in Eurosia in occasione del 50° anniversario della erezione della Parrocchia. \n
URL:https://www.diocesidiroma.it/event/celebra-la-messa-nella-parrocchia-di-san-filippo-in-eurosia-in-occasione-del-50-anniversario-della-erezione-della-parrocchia/
CATEGORIES:NON USARE --- Agenda del Vicario
END:VEVENT
END:VCALENDAR