BEGIN:VCALENDAR
VERSION:2.0
PRODID:-//DIOCESI DI ROMA - ECPv4.6.14.1//NONSGML v1.0//EN
CALSCALE:GREGORIAN
METHOD:PUBLISH
X-WR-CALNAME:DIOCESI DI ROMA
X-ORIGINAL-URL:https://www.diocesidiroma.it
X-WR-CALDESC:Eventi per DIOCESI DI ROMA
BEGIN:VEVENT
DTSTART;TZID=Europe/Rome:20230114T180000
DTEND;TZID=Europe/Rome:20230114T180000
DTSTAMP:20260420T183719
CREATED:20230104T104214Z
LAST-MODIFIED:20230104T104214Z
UID:24673-1673719200-1673719200@www.diocesidiroma.it
SUMMARY:Celebra la Messa nella parrocchia di San Giovanni Battista dei Fiorentini in occasione della visita pastorale
DESCRIPTION:Celebra la Messa nella parrocchia di San Giovanni Battista dei Fiorentini in occasione della visita pastorale.  \n
URL:https://www.diocesidiroma.it/event/celebra-la-messa-nella-parrocchia-di-san-giovanni-battista-dei-fiorentini-in-occasione-della-visita-pastorale/
CATEGORIES:NON USARE --- Agenda del Vicario
END:VEVENT
END:VCALENDAR