BEGIN:VCALENDAR
VERSION:2.0
PRODID:-//DIOCESI DI ROMA - ECPv4.6.14.1//NONSGML v1.0//EN
CALSCALE:GREGORIAN
METHOD:PUBLISH
X-WR-CALNAME:DIOCESI DI ROMA
X-ORIGINAL-URL:https://www.diocesidiroma.it
X-WR-CALDESC:Eventi per DIOCESI DI ROMA
BEGIN:VEVENT
DTSTART;TZID=Europe/Rome:20240225T110000
DTEND;TZID=Europe/Rome:20240225T110000
DTSTAMP:20260420T170252
CREATED:20240216T124551Z
LAST-MODIFIED:20240216T124551Z
UID:28933-1708858800-1708858800@www.diocesidiroma.it
SUMMARY:Celebra la Messa nella parrocchia di San Giovanni Bosco in occasione della visita pastorale
DESCRIPTION:Celebra la Messa nella parrocchia di San Giovanni Bosco in occasione della visita pastorale \n
URL:https://www.diocesidiroma.it/event/celebra-la-messa-nella-parrocchia-di-san-giovanni-bosco-in-occasione-della-visita-pastorale/
CATEGORIES:NON USARE --- Agenda del Vicario
END:VEVENT
END:VCALENDAR