BEGIN:VCALENDAR
VERSION:2.0
PRODID:-//DIOCESI DI ROMA - ECPv4.6.14.1//NONSGML v1.0//EN
CALSCALE:GREGORIAN
METHOD:PUBLISH
X-WR-CALNAME:DIOCESI DI ROMA
X-ORIGINAL-URL:https://www.diocesidiroma.it
X-WR-CALDESC:Eventi per DIOCESI DI ROMA
BEGIN:VEVENT
DTSTART;TZID=Europe/Rome:20211009T183000
DTEND;TZID=Europe/Rome:20211009T183000
DTSTAMP:20260420T182343
CREATED:20211001T095839Z
LAST-MODIFIED:20211001T095839Z
UID:18235-1633804200-1633804200@www.diocesidiroma.it
SUMMARY:Celebra la Messa nella parrocchia di San Giovanni della Croce ed incontra il Consiglio Pastorale
DESCRIPTION:Celebra la Messa nella parrocchia di San Giovanni della Croce ed incontra il Consiglio Pastorale. \n
URL:https://www.diocesidiroma.it/event/celebra-la-messa-nella-parrocchia-di-san-giovanni-della-croce-ed-incontra-il-consiglio-pastorale/
CATEGORIES:NON USARE --- Agenda del Vicario
END:VEVENT
END:VCALENDAR