BEGIN:VCALENDAR
VERSION:2.0
PRODID:-//DIOCESI DI ROMA - ECPv4.6.14.1//NONSGML v1.0//EN
CALSCALE:GREGORIAN
METHOD:PUBLISH
X-WR-CALNAME:DIOCESI DI ROMA
X-ORIGINAL-URL:https://www.diocesidiroma.it
X-WR-CALDESC:Eventi per DIOCESI DI ROMA
BEGIN:VEVENT
DTSTART;TZID=Europe/Rome:20210516T100000
DTEND;TZID=Europe/Rome:20210516T100000
DTSTAMP:20260420T182253
CREATED:20210507T104616Z
LAST-MODIFIED:20210507T104616Z
UID:15467-1621159200-1621159200@www.diocesidiroma.it
SUMMARY:Celebra la Messa nella parrocchia di San Giovanni Leonardi
DESCRIPTION:Celebra la Messa nella parrocchia di San Giovanni Leonardi. \n
URL:https://www.diocesidiroma.it/event/celebra-la-messa-nella-parrocchia-di-san-giovanni-leonardi/
CATEGORIES:NON USARE --- Agenda del Vicario
END:VEVENT
END:VCALENDAR