BEGIN:VCALENDAR
VERSION:2.0
PRODID:-//DIOCESI DI ROMA - ECPv4.6.14.1//NONSGML v1.0//EN
CALSCALE:GREGORIAN
METHOD:PUBLISH
X-WR-CALNAME:DIOCESI DI ROMA
X-ORIGINAL-URL:https://www.diocesidiroma.it
X-WR-CALDESC:Eventi per DIOCESI DI ROMA
BEGIN:VEVENT
DTSTART;TZID=Europe/Rome:20240119T180000
DTEND;TZID=Europe/Rome:20240119T180000
DTSTAMP:20260422T100652
CREATED:20240112T090707Z
LAST-MODIFIED:20240112T090707Z
UID:28452-1705687200-1705687200@www.diocesidiroma.it
SUMMARY:Celebra la Messa nella parrocchia di San Girolamo a Corviale
DESCRIPTION:Celebra la Messa nella parrocchia di San Girolamo a Corviale \n
URL:https://www.diocesidiroma.it/event/celebra-la-messa-nella-parrocchia-di-san-girolamo-a-corviale/
CATEGORIES:NON USARE --- Agenda del Vicario
END:VEVENT
END:VCALENDAR