BEGIN:VCALENDAR
VERSION:2.0
PRODID:-//DIOCESI DI ROMA - ECPv4.6.14.1//NONSGML v1.0//EN
CALSCALE:GREGORIAN
METHOD:PUBLISH
X-WR-CALNAME:DIOCESI DI ROMA
X-ORIGINAL-URL:https://www.diocesidiroma.it
X-WR-CALDESC:Eventi per DIOCESI DI ROMA
BEGIN:VEVENT
DTSTART;TZID=Europe/Rome:20231112T100000
DTEND;TZID=Europe/Rome:20231112T100000
DTSTAMP:20260420T183155
CREATED:20231103T100418Z
LAST-MODIFIED:20231103T100418Z
UID:27791-1699783200-1699783200@www.diocesidiroma.it
SUMMARY:Celebra la Messa nella parrocchia di San Giustino in occasione della visita pastorale
DESCRIPTION:Celebra la Messa nella parrocchia di San Giustino in occasione della visita pastorale \n
URL:https://www.diocesidiroma.it/event/celebra-la-messa-nella-parrocchia-di-san-giustino-in-occasione-della-visita-pastorale/
CATEGORIES:NON USARE --- Agenda del Vicario
END:VEVENT
END:VCALENDAR