BEGIN:VCALENDAR
VERSION:2.0
PRODID:-//DIOCESI DI ROMA - ECPv4.6.14.1//NONSGML v1.0//EN
CALSCALE:GREGORIAN
METHOD:PUBLISH
X-WR-CALNAME:DIOCESI DI ROMA
X-ORIGINAL-URL:https://www.diocesidiroma.it
X-WR-CALDESC:Eventi per DIOCESI DI ROMA
BEGIN:VEVENT
DTSTART;TZID=Europe/Rome:20231105T103000
DTEND;TZID=Europe/Rome:20231105T103000
DTSTAMP:20260420T200425
CREATED:20231027T134708Z
LAST-MODIFIED:20231027T134713Z
UID:27756-1699180200-1699180200@www.diocesidiroma.it
SUMMARY:Celebra la Messa nella parrocchia di San Liborio in occasione della visita pastorale nella ricorrenza dei 25 anni della dedicazione della chiesa
DESCRIPTION:Celebra la Messa nella parrocchia di San Liborio in occasione della visita pastorale nella ricorrenza dei 25 anni della dedicazione della chiesa. \n
URL:https://www.diocesidiroma.it/event/celebra-la-messa-nella-parrocchia-di-san-liborio-in-occasione-della-visita-pastorale-nella-ricorrenza-dei-25-anni-della-dedicazione-della-chiesa/
CATEGORIES:NON USARE --- Agenda del Vicario
END:VEVENT
END:VCALENDAR