BEGIN:VCALENDAR
VERSION:2.0
PRODID:-//DIOCESI DI ROMA - ECPv4.6.14.1//NONSGML v1.0//EN
CALSCALE:GREGORIAN
METHOD:PUBLISH
X-WR-CALNAME:DIOCESI DI ROMA
X-ORIGINAL-URL:https://www.diocesidiroma.it
X-WR-CALDESC:Eventi per DIOCESI DI ROMA
BEGIN:VEVENT
DTSTART;TZID=Europe/Rome:20200923T193000
DTEND;TZID=Europe/Rome:20200923T203000
DTSTAMP:20260420T195611
CREATED:20200918T103441Z
LAST-MODIFIED:20200918T103441Z
UID:11718-1600889400-1600893000@www.diocesidiroma.it
SUMMARY:Celebra la Messa nella parrocchia di San Luca Evangelista in suffragio di Don Giampiero Maria Arabia
DESCRIPTION:Celebra la Messa nella parrocchia di San Luca Evangelista in suffragio di Don Giampiero Maria Arabia. \n
URL:https://www.diocesidiroma.it/event/celebra-la-messa-nella-parrocchia-di-san-luca-evangelista-in-suffragio-di-don-giampiero-maria-arabia/
CATEGORIES:NON USARE --- Agenda del Vicario
END:VEVENT
END:VCALENDAR