BEGIN:VCALENDAR
VERSION:2.0
PRODID:-//DIOCESI DI ROMA - ECPv4.6.14.1//NONSGML v1.0//EN
CALSCALE:GREGORIAN
METHOD:PUBLISH
X-WR-CALNAME:DIOCESI DI ROMA
X-ORIGINAL-URL:https://www.diocesidiroma.it
X-WR-CALDESC:Eventi per DIOCESI DI ROMA
BEGIN:VEVENT
DTSTART;TZID=Europe/Rome:20181103T190000
DTEND;TZID=Europe/Rome:20181103T190000
DTSTAMP:20260421T023704
CREATED:20181026T083853Z
LAST-MODIFIED:20181026T083853Z
UID:5348-1541271600-1541271600@www.diocesidiroma.it
SUMMARY:Celebra la Messa nella parrocchia di San Martino I Papa
DESCRIPTION:Celebra la Messa nella parrocchia di San Martino I Papa \n
URL:https://www.diocesidiroma.it/event/celebra-la-messa-nella-parrocchia-di-san-martino-i-papa/
CATEGORIES:NON USARE --- Agenda del Vicario
END:VEVENT
END:VCALENDAR