BEGIN:VCALENDAR
VERSION:2.0
PRODID:-//DIOCESI DI ROMA - ECPv4.6.14.1//NONSGML v1.0//EN
CALSCALE:GREGORIAN
METHOD:PUBLISH
X-WR-CALNAME:DIOCESI DI ROMA
X-ORIGINAL-URL:https://www.diocesidiroma.it
X-WR-CALDESC:Eventi per DIOCESI DI ROMA
BEGIN:VEVENT
DTSTART;TZID=Europe/Rome:20200925T190000
DTEND;TZID=Europe/Rome:20200925T200000
DTSTAMP:20260420T224848
CREATED:20200918T103545Z
LAST-MODIFIED:20200918T103558Z
UID:11720-1601060400-1601064000@www.diocesidiroma.it
SUMMARY:Celebra la Messa nella Parrocchia di San Pio X
DESCRIPTION:Celebra la Messa nella Parrocchia di San Pio X. \n
URL:https://www.diocesidiroma.it/event/celebra-la-messa-nella-parrocchia-di-san-pio-x-2/
CATEGORIES:NON USARE --- Agenda del Vicario
END:VEVENT
END:VCALENDAR