BEGIN:VCALENDAR
VERSION:2.0
PRODID:-//DIOCESI DI ROMA - ECPv4.6.14.1//NONSGML v1.0//EN
CALSCALE:GREGORIAN
METHOD:PUBLISH
X-WR-CALNAME:DIOCESI DI ROMA
X-ORIGINAL-URL:https://www.diocesidiroma.it
X-WR-CALDESC:Eventi per DIOCESI DI ROMA
BEGIN:VEVENT
DTSTART;TZID=Europe/Rome:20230618T190000
DTEND;TZID=Europe/Rome:20230618T190000
DTSTAMP:20260421T053145
CREATED:20230612T073126Z
LAST-MODIFIED:20230612T073126Z
UID:26603-1687114800-1687114800@www.diocesidiroma.it
SUMMARY:Celebra la Messa nella Parrocchia di San Vigilio e consacra l’altare
DESCRIPTION:Celebra la Messa nella Parrocchia di San Vigilio e consacra l’altare.  \n
URL:https://www.diocesidiroma.it/event/celebra-la-messa-nella-parrocchia-di-san-vigilio-e-consacra-laltare/
CATEGORIES:NON USARE --- Agenda del Vicario
END:VEVENT
END:VCALENDAR