BEGIN:VCALENDAR
VERSION:2.0
PRODID:-//DIOCESI DI ROMA - ECPv4.6.14.1//NONSGML v1.0//EN
CALSCALE:GREGORIAN
METHOD:PUBLISH
X-WR-CALNAME:DIOCESI DI ROMA
X-ORIGINAL-URL:https://www.diocesidiroma.it
X-WR-CALDESC:Eventi per DIOCESI DI ROMA
BEGIN:VEVENT
DTSTART;TZID=Europe/Rome:20201025T110000
DTEND;TZID=Europe/Rome:20201025T110000
DTSTAMP:20260422T115622
CREATED:20201016T091825Z
LAST-MODIFIED:20201016T091825Z
UID:12144-1603623600-1603623600@www.diocesidiroma.it
SUMMARY:Celebra la Messa nella parrocchia di San Vincenzo Pallotti
DESCRIPTION:Celebra la Messa nella parrocchia di San Vincenzo Pallotti. \n
URL:https://www.diocesidiroma.it/event/celebra-la-messa-nella-parrocchia-di-san-vincenzo-pallotti/
CATEGORIES:NON USARE --- Agenda del Vicario
END:VEVENT
END:VCALENDAR