BEGIN:VCALENDAR
VERSION:2.0
PRODID:-//DIOCESI DI ROMA - ECPv4.6.14.1//NONSGML v1.0//EN
CALSCALE:GREGORIAN
METHOD:PUBLISH
X-WR-CALNAME:DIOCESI DI ROMA
X-ORIGINAL-URL:https://www.diocesidiroma.it
X-WR-CALDESC:Eventi per DIOCESI DI ROMA
BEGIN:VEVENT
DTSTART;TZID=Europe/Rome:20191221T173000
DTEND;TZID=Europe/Rome:20191221T173000
DTSTAMP:20260421T182100
CREATED:20191213T104614Z
LAST-MODIFIED:20191213T104653Z
UID:9564-1576949400-1576949400@www.diocesidiroma.it
SUMMARY:Celebra la Messa nella parrocchia di Santa Brigida di Svezia
DESCRIPTION:Celebra la Messa nella parrocchia di Santa Brigida di Svezia. \n
URL:https://www.diocesidiroma.it/event/celebra-la-messa-nella-parrocchia-di-santa-brigida-di-svezia/
CATEGORIES:NON USARE --- Agenda del Vicario
END:VEVENT
END:VCALENDAR