BEGIN:VCALENDAR
VERSION:2.0
PRODID:-//DIOCESI DI ROMA - ECPv4.6.14.1//NONSGML v1.0//EN
CALSCALE:GREGORIAN
METHOD:PUBLISH
X-WR-CALNAME:DIOCESI DI ROMA
X-ORIGINAL-URL:https://www.diocesidiroma.it
X-WR-CALDESC:Eventi per DIOCESI DI ROMA
BEGIN:VEVENT
DTSTART;TZID=Europe/Rome:20231125T180000
DTEND;TZID=Europe/Rome:20231125T180000
DTSTAMP:20260421T200950
CREATED:20231117T120707Z
LAST-MODIFIED:20231117T120707Z
UID:27968-1700935200-1700935200@www.diocesidiroma.it
SUMMARY:Celebra la Messa nella parrocchia di Santa Felicita e Figli Martiri in occasione della visita pastorale
DESCRIPTION:Celebra la Messa nella parrocchia di Santa Felicita e Figli Martiri in occasione della visita pastorale. \n  \n
URL:https://www.diocesidiroma.it/event/celebra-la-messa-nella-parrocchia-di-santa-felicita-e-figli-martiri-in-occasione-della-visita-pastorale/
CATEGORIES:NON USARE --- Agenda del Vicario
END:VEVENT
END:VCALENDAR