BEGIN:VCALENDAR
VERSION:2.0
PRODID:-//DIOCESI DI ROMA - ECPv4.6.14.1//NONSGML v1.0//EN
CALSCALE:GREGORIAN
METHOD:PUBLISH
X-WR-CALNAME:DIOCESI DI ROMA
X-ORIGINAL-URL:https://www.diocesidiroma.it
X-WR-CALDESC:Eventi per DIOCESI DI ROMA
BEGIN:VEVENT
DTSTART;TZID=Europe/Rome:20191124T180000
DTEND;TZID=Europe/Rome:20191124T180000
DTSTAMP:20260421T200122
CREATED:20191115T102556Z
LAST-MODIFIED:20191115T102556Z
UID:9284-1574618400-1574618400@www.diocesidiroma.it
SUMMARY:Celebra la Messa nella parrocchia di Santa Felicita e Figli Martiri
DESCRIPTION:Celebra la Messa nella parrocchia di Santa Felicita e Figli Martiri. \n
URL:https://www.diocesidiroma.it/event/celebra-la-messa-nella-parrocchia-di-santa-felicita-e-figli-martiri/
CATEGORIES:NON USARE --- Agenda del Vicario
END:VEVENT
END:VCALENDAR