BEGIN:VCALENDAR
VERSION:2.0
PRODID:-//DIOCESI DI ROMA - ECPv4.6.14.1//NONSGML v1.0//EN
CALSCALE:GREGORIAN
METHOD:PUBLISH
X-WR-CALNAME:DIOCESI DI ROMA
X-ORIGINAL-URL:https://www.diocesidiroma.it
X-WR-CALDESC:Eventi per DIOCESI DI ROMA
BEGIN:VEVENT
DTSTART;TZID=Europe/Rome:20191006T190000
DTEND;TZID=Europe/Rome:20191006T190000
DTSTAMP:20260422T013908
CREATED:20190927T080916Z
LAST-MODIFIED:20190927T080916Z
UID:8862-1570388400-1570388400@www.diocesidiroma.it
SUMMARY:Celebra la Messa nella parrocchia di Santa Maria ai Monti
DESCRIPTION:Celebra la Messa nella parrocchia di Santa Maria ai Monti. \n
URL:https://www.diocesidiroma.it/event/celebra-la-messa-nella-parrocchia-di-santa-maria-ai-monti/
CATEGORIES:NON USARE --- Agenda del Vicario
END:VEVENT
END:VCALENDAR