BEGIN:VCALENDAR
VERSION:2.0
PRODID:-//DIOCESI DI ROMA - ECPv4.6.14.1//NONSGML v1.0//EN
CALSCALE:GREGORIAN
METHOD:PUBLISH
X-WR-CALNAME:DIOCESI DI ROMA
X-ORIGINAL-URL:https://www.diocesidiroma.it
X-WR-CALDESC:Eventi per DIOCESI DI ROMA
BEGIN:VEVENT
DTSTART;TZID=Europe/Rome:20181215T183000
DTEND;TZID=Europe/Rome:20181215T183000
DTSTAMP:20260421T011120
CREATED:20181207T085144Z
LAST-MODIFIED:20181207T085144Z
UID:5789-1544898600-1544898600@www.diocesidiroma.it
SUMMARY:Celebra la Messa nella parrocchia di Santa Maria Assunta e San Michele a Castel Romano
DESCRIPTION:Celebra la Messa nella parrocchia di Santa Maria Assunta e San Michele a Castel Romano. \n
URL:https://www.diocesidiroma.it/event/celebra-la-messa-nella-parrocchia-di-santa-maria-assunta-e-san-michele-a-castel-romano/
CATEGORIES:NON USARE --- Agenda del Vicario
END:VEVENT
END:VCALENDAR