BEGIN:VCALENDAR
VERSION:2.0
PRODID:-//DIOCESI DI ROMA - ECPv4.6.14.1//NONSGML v1.0//EN
CALSCALE:GREGORIAN
METHOD:PUBLISH
X-WR-CALNAME:DIOCESI DI ROMA
X-ORIGINAL-URL:https://www.diocesidiroma.it
X-WR-CALDESC:Eventi per DIOCESI DI ROMA
BEGIN:VEVENT
DTSTART;TZID=Europe/Rome:20221008T183000
DTEND;TZID=Europe/Rome:20221008T183000
DTSTAMP:20260421T004354
CREATED:20220930T101740Z
LAST-MODIFIED:20220930T101740Z
UID:22705-1665253800-1665253800@www.diocesidiroma.it
SUMMARY:Celebra la Messa nella parrocchia di Santa Maria della Fiducia in occasione della visita pastorale
DESCRIPTION:Celebra la Messa nella parrocchia di Santa Maria della Fiducia in occasione della visita pastorale.  \n
URL:https://www.diocesidiroma.it/event/celebra-la-messa-nella-parrocchia-di-santa-maria-della-fiducia-in-occasione-della-visita-pastorale/
CATEGORIES:NON USARE --- Agenda del Vicario
END:VEVENT
END:VCALENDAR