BEGIN:VCALENDAR
VERSION:2.0
PRODID:-//DIOCESI DI ROMA - ECPv4.6.14.1//NONSGML v1.0//EN
CALSCALE:GREGORIAN
METHOD:PUBLISH
X-WR-CALNAME:DIOCESI DI ROMA
X-ORIGINAL-URL:https://www.diocesidiroma.it
X-WR-CALDESC:Eventi per DIOCESI DI ROMA
BEGIN:VEVENT
DTSTART;TZID=Europe/Rome:20191025T190000
DTEND;TZID=Europe/Rome:20191025T190000
DTSTAMP:20260422T095518
CREATED:20191018T080140Z
LAST-MODIFIED:20191018T080150Z
UID:9085-1572030000-1572030000@www.diocesidiroma.it
SUMMARY:Celebra la Messa nella parrocchia di Santa Maria della Perseveranza
DESCRIPTION:Celebra la Messa nella parrocchia di Santa Maria della Perseveranza. \n
URL:https://www.diocesidiroma.it/event/celebra-la-messa-nella-parrocchia-di-santa-maria-della-perseveranza/
CATEGORIES:NON USARE --- Agenda del Vicario
END:VEVENT
END:VCALENDAR