BEGIN:VCALENDAR
VERSION:2.0
PRODID:-//DIOCESI DI ROMA - ECPv4.6.14.1//NONSGML v1.0//EN
CALSCALE:GREGORIAN
METHOD:PUBLISH
X-WR-CALNAME:DIOCESI DI ROMA
X-ORIGINAL-URL:https://www.diocesidiroma.it
X-WR-CALDESC:Eventi per DIOCESI DI ROMA
BEGIN:VEVENT
DTSTART;TZID=Europe/Rome:20210530T190000
DTEND;TZID=Europe/Rome:20210530T190000
DTSTAMP:20260424T182246
CREATED:20210521T081653Z
LAST-MODIFIED:20210521T081653Z
UID:15856-1622401200-1622401200@www.diocesidiroma.it
SUMMARY:Celebra la Messa nella parrocchia di Santa Maria delle Grazie al Trionfale
DESCRIPTION:Celebra la Messa nella parrocchia di Santa Maria delle Grazie al Trionfale. \n
URL:https://www.diocesidiroma.it/event/celebra-la-messa-nella-parrocchia-di-santa-maria-delle-grazie-al-trionfale/
CATEGORIES:NON USARE --- Agenda del Vicario
END:VEVENT
END:VCALENDAR