BEGIN:VCALENDAR
VERSION:2.0
PRODID:-//DIOCESI DI ROMA - ECPv4.6.14.1//NONSGML v1.0//EN
CALSCALE:GREGORIAN
METHOD:PUBLISH
X-WR-CALNAME:DIOCESI DI ROMA
X-ORIGINAL-URL:https://www.diocesidiroma.it
X-WR-CALDESC:Eventi per DIOCESI DI ROMA
BEGIN:VEVENT
DTSTART;TZID=Europe/Rome:20210703T190000
DTEND;TZID=Europe/Rome:20210703T190000
DTSTAMP:20260425T104849
CREATED:20210701T103806Z
LAST-MODIFIED:20210701T103806Z
UID:16759-1625338800-1625338800@www.diocesidiroma.it
SUMMARY:Celebra la messa nella Parrocchia di Santa Maria in Trastevere
DESCRIPTION:Celebra la messa nella Parrocchia di Santa Maria in Trastevere. \n
URL:https://www.diocesidiroma.it/event/celebra-la-messa-nella-parrocchia-di-santa-maria-in-trastevere/
CATEGORIES:NON USARE --- Agenda del Vicario
END:VEVENT
END:VCALENDAR