BEGIN:VCALENDAR
VERSION:2.0
PRODID:-//DIOCESI DI ROMA - ECPv4.6.14.1//NONSGML v1.0//EN
CALSCALE:GREGORIAN
METHOD:PUBLISH
X-WR-CALNAME:DIOCESI DI ROMA
X-ORIGINAL-URL:https://www.diocesidiroma.it
X-WR-CALDESC:Eventi per DIOCESI DI ROMA
BEGIN:VEVENT
DTSTART;TZID=Europe/Rome:20191006T100000
DTEND;TZID=Europe/Rome:20191006T100000
DTSTAMP:20260424T020438
CREATED:20190927T080833Z
LAST-MODIFIED:20190927T080833Z
UID:8860-1570356000-1570356000@www.diocesidiroma.it
SUMMARY:Celebra la Messa nella parrocchia di Santa Maria Josefa del Cuore di Gesù
DESCRIPTION:Celebra la Messa nella parrocchia di Santa Maria Josefa del Cuore di Gesù. \n
URL:https://www.diocesidiroma.it/event/celebra-la-messa-nella-parrocchia-di-santa-maria-josefa-del-cuore-di-gesu/
CATEGORIES:NON USARE --- Agenda del Vicario
END:VEVENT
END:VCALENDAR