BEGIN:VCALENDAR
VERSION:2.0
PRODID:-//DIOCESI DI ROMA - ECPv4.6.14.1//NONSGML v1.0//EN
CALSCALE:GREGORIAN
METHOD:PUBLISH
X-WR-CALNAME:DIOCESI DI ROMA
X-ORIGINAL-URL:https://www.diocesidiroma.it
X-WR-CALDESC:Eventi per DIOCESI DI ROMA
BEGIN:VEVENT
DTSTART;TZID=Europe/Rome:20240114T100000
DTEND;TZID=Europe/Rome:20240114T100000
DTSTAMP:20260422T141710
CREATED:20240105T100025Z
LAST-MODIFIED:20240105T100025Z
UID:28368-1705226400-1705226400@www.diocesidiroma.it
SUMMARY:Celebra la Messa nella parrocchia di Santa Maria Madre del Redentore in occasione della visita pastorale
DESCRIPTION:Celebra la Messa nella parrocchia di Santa Maria Madre del Redentore in occasione della visita pastorale \n
URL:https://www.diocesidiroma.it/event/celebra-la-messa-nella-parrocchia-di-santa-maria-madre-del-redentore-in-occasione-della-visita-pastorale/
CATEGORIES:NON USARE --- Agenda del Vicario
END:VEVENT
END:VCALENDAR