BEGIN:VCALENDAR
VERSION:2.0
PRODID:-//DIOCESI DI ROMA - ECPv4.6.14.1//NONSGML v1.0//EN
CALSCALE:GREGORIAN
METHOD:PUBLISH
X-WR-CALNAME:DIOCESI DI ROMA
X-ORIGINAL-URL:https://www.diocesidiroma.it
X-WR-CALDESC:Eventi per DIOCESI DI ROMA
BEGIN:VEVENT
DTSTART;TZID=Europe/Rome:20241101T000000
DTEND;TZID=Europe/Rome:20241101T000000
DTSTAMP:20260422T051811
CREATED:20241025T070829Z
LAST-MODIFIED:20241030T082107Z
UID:31527-1730419200-1730419200@www.diocesidiroma.it
SUMMARY:Celebra la Messa nella parrocchia di Santa Paola Romana
DESCRIPTION:Celebra la Messa nella parrocchia di Santa Paola Romana \n
URL:https://www.diocesidiroma.it/event/celebra-la-messa-nella-parrocchia-di-santa-paola-romana-2/
CATEGORIES:Vicario Generale
END:VEVENT
END:VCALENDAR