BEGIN:VCALENDAR
VERSION:2.0
PRODID:-//DIOCESI DI ROMA - ECPv4.6.14.1//NONSGML v1.0//EN
CALSCALE:GREGORIAN
METHOD:PUBLISH
X-WR-CALNAME:DIOCESI DI ROMA
X-ORIGINAL-URL:https://www.diocesidiroma.it
X-WR-CALDESC:Eventi per DIOCESI DI ROMA
BEGIN:VEVENT
DTSTART;TZID=Europe/Rome:20200126T183000
DTEND;TZID=Europe/Rome:20200126T193000
DTSTAMP:20260421T104247
CREATED:20200117T085711Z
LAST-MODIFIED:20200117T085711Z
UID:9802-1580063400-1580067000@www.diocesidiroma.it
SUMMARY:Celebra la Messa nella parrocchia di Santa Paola Romana
DESCRIPTION:Celebra la Messa nella parrocchia di Santa Paola Romana. \n
URL:https://www.diocesidiroma.it/event/celebra-la-messa-nella-parrocchia-di-santa-paola-romana/
CATEGORIES:NON USARE --- Agenda del Vicario
END:VEVENT
END:VCALENDAR