BEGIN:VCALENDAR
VERSION:2.0
PRODID:-//DIOCESI DI ROMA - ECPv4.6.14.1//NONSGML v1.0//EN
CALSCALE:GREGORIAN
METHOD:PUBLISH
X-WR-CALNAME:DIOCESI DI ROMA
X-ORIGINAL-URL:https://www.diocesidiroma.it
X-WR-CALDESC:Eventi per DIOCESI DI ROMA
BEGIN:VEVENT
DTSTART;TZID=Europe/Rome:20190103T100000
DTEND;TZID=Europe/Rome:20190103T100000
DTSTAMP:20260422T182212
CREATED:20190125T095053Z
LAST-MODIFIED:20190125T095053Z
UID:6206-1546509600-1546509600@www.diocesidiroma.it
SUMMARY:Celebra la Messa nella parrocchia di Santa Prisca all’Aventino
DESCRIPTION:Celebra la Messa nella parrocchia di Santa Prisca all’Aventino. \n
URL:https://www.diocesidiroma.it/event/celebra-la-messa-nella-parrocchia-di-santa-prisca-allaventino/
CATEGORIES:NON USARE --- Agenda del Vicario
END:VEVENT
END:VCALENDAR