BEGIN:VCALENDAR
VERSION:2.0
PRODID:-//DIOCESI DI ROMA - ECPv4.6.14.1//NONSGML v1.0//EN
CALSCALE:GREGORIAN
METHOD:PUBLISH
X-WR-CALNAME:DIOCESI DI ROMA
X-ORIGINAL-URL:https://www.diocesidiroma.it
X-WR-CALDESC:Eventi per DIOCESI DI ROMA
BEGIN:VEVENT
DTSTART;TZID=Europe/Rome:20181013T183000
DTEND;TZID=Europe/Rome:20181013T193000
DTSTAMP:20260421T104800
CREATED:20181005T071828Z
LAST-MODIFIED:20181005T071828Z
UID:4852-1539455400-1539459000@www.diocesidiroma.it
SUMMARY:Celebra la Messa nella parrocchia di Sant'Achille Martire in occasione del 60° anniversario della dedicazione della chiesa
DESCRIPTION:Celebra la Messa nella parrocchia di Sant’Achille Martire in occasione del 60° anniversario della dedicazione della chiesa.  \n
URL:https://www.diocesidiroma.it/event/celebra-la-messa-nella-parrocchia-di-santachille-martire-in-occasione-del-60-anniversario-della-dedicazione-della-chiesa/
CATEGORIES:NON USARE --- Agenda del Vicario
END:VEVENT
END:VCALENDAR