BEGIN:VCALENDAR
VERSION:2.0
PRODID:-//DIOCESI DI ROMA - ECPv4.6.14.1//NONSGML v1.0//EN
CALSCALE:GREGORIAN
METHOD:PUBLISH
X-WR-CALNAME:DIOCESI DI ROMA
X-ORIGINAL-URL:https://www.diocesidiroma.it
X-WR-CALDESC:Eventi per DIOCESI DI ROMA
BEGIN:VEVENT
DTSTART;TZID=Europe/Rome:20240127T180000
DTEND;TZID=Europe/Rome:20240127T180000
DTSTAMP:20260421T151545
CREATED:20240119T123510Z
LAST-MODIFIED:20240119T123510Z
UID:28563-1706378400-1706378400@www.diocesidiroma.it
SUMMARY:Celebra la Messa nella parrocchia di Sant’Alessandro
DESCRIPTION:Celebra la Messa nella parrocchia di Sant’Alessandro \n
URL:https://www.diocesidiroma.it/event/celebra-la-messa-nella-parrocchia-di-santalessandro-2/
CATEGORIES:NON USARE --- Agenda del Vicario
END:VEVENT
END:VCALENDAR