BEGIN:VCALENDAR
VERSION:2.0
PRODID:-//DIOCESI DI ROMA - ECPv4.6.14.1//NONSGML v1.0//EN
CALSCALE:GREGORIAN
METHOD:PUBLISH
X-WR-CALNAME:DIOCESI DI ROMA
X-ORIGINAL-URL:https://www.diocesidiroma.it
X-WR-CALDESC:Eventi per DIOCESI DI ROMA
BEGIN:VEVENT
DTSTART;TZID=Europe/Rome:20181222T183000
DTEND;TZID=Europe/Rome:20181222T183000
DTSTAMP:20260421T182507
CREATED:20181214T091708Z
LAST-MODIFIED:20181214T091708Z
UID:5875-1545503400-1545503400@www.diocesidiroma.it
SUMMARY:Celebra la Messa nella parrocchia di Sant'Andrea Avellino
DESCRIPTION:Celebra la Messa nella parrocchia di Sant’Andrea Avellino. \n
URL:https://www.diocesidiroma.it/event/celebra-la-messa-nella-parrocchia-di-santandrea-avellino-2/
CATEGORIES:NON USARE --- Agenda del Vicario
END:VEVENT
END:VCALENDAR