BEGIN:VCALENDAR
VERSION:2.0
PRODID:-//DIOCESI DI ROMA - ECPv4.6.14.1//NONSGML v1.0//EN
CALSCALE:GREGORIAN
METHOD:PUBLISH
X-WR-CALNAME:DIOCESI DI ROMA
X-ORIGINAL-URL:https://www.diocesidiroma.it
X-WR-CALDESC:Eventi per DIOCESI DI ROMA
BEGIN:VEVENT
DTSTART;TZID=Europe/Rome:20211011T180000
DTEND;TZID=Europe/Rome:20211011T180000
DTSTAMP:20260422T192118
CREATED:20211008T084658Z
LAST-MODIFIED:20211008T084658Z
UID:18393-1633975200-1633975200@www.diocesidiroma.it
SUMMARY:Celebra la Messa nella parrocchia di Sant’Angela Merici in commemorazione del Beato Carlo Acutis organizzata dalla Pastorale giovanile diocesana
DESCRIPTION: Celebra la Messa nella parrocchia di Sant’Angela Merici in commemorazione del Beato Carlo Acutis organizzata dalla Pastorale giovanile diocesana. \n
URL:https://www.diocesidiroma.it/event/celebra-la-messa-nella-parrocchia-di-santangela-merici-in-commemorazione-del-beato-carlo-acutis-organizzata-dalla-pastorale-giovanile-diocesana/
CATEGORIES:NON USARE --- Agenda del Vicario
END:VEVENT
END:VCALENDAR