BEGIN:VCALENDAR
VERSION:2.0
PRODID:-//DIOCESI DI ROMA - ECPv4.6.14.1//NONSGML v1.0//EN
CALSCALE:GREGORIAN
METHOD:PUBLISH
X-WR-CALNAME:DIOCESI DI ROMA
X-ORIGINAL-URL:https://www.diocesidiroma.it
X-WR-CALDESC:Eventi per DIOCESI DI ROMA
BEGIN:VEVENT
DTSTART;TZID=Europe/Rome:20190210T100000
DTEND;TZID=Europe/Rome:20190210T100000
DTSTAMP:20260420T212429
CREATED:20190201T082814Z
LAST-MODIFIED:20190201T082915Z
UID:6275-1549792800-1549792800@www.diocesidiroma.it
SUMMARY:Celebra la Messa nella parrocchia di  Sant'Aurea a Ostia Antica
DESCRIPTION:Celebra la Messa nella parrocchia di  Sant’Aurea a Ostia Antica. \n
URL:https://www.diocesidiroma.it/event/celebra-la-messa-nella-parrocchia-di-santaurea-a-ostia-antica/
CATEGORIES:NON USARE --- Agenda del Vicario
END:VEVENT
END:VCALENDAR