BEGIN:VCALENDAR
VERSION:2.0
PRODID:-//DIOCESI DI ROMA - ECPv4.6.14.1//NONSGML v1.0//EN
CALSCALE:GREGORIAN
METHOD:PUBLISH
X-WR-CALNAME:DIOCESI DI ROMA
X-ORIGINAL-URL:https://www.diocesidiroma.it
X-WR-CALDESC:Eventi per DIOCESI DI ROMA
BEGIN:VEVENT
DTSTART;TZID=Europe/Rome:20230924T103000
DTEND;TZID=Europe/Rome:20230924T103000
DTSTAMP:20260421T104637
CREATED:20230915T082446Z
LAST-MODIFIED:20230915T082452Z
UID:27299-1695551400-1695551400@www.diocesidiroma.it
SUMMARY:Celebra la Messa nella parrocchia di Sant’Elena in occasione dell’inizio dell’anno pastorale
DESCRIPTION:Celebra la Messa nella parrocchia di Sant’Elena in occasione dell’inizio dell’anno pastorale. \n
URL:https://www.diocesidiroma.it/event/celebra-la-messa-nella-parrocchia-di-santelena-in-occasione-dellinizio-dellanno-pastorale/
CATEGORIES:NON USARE --- Agenda del Vicario
END:VEVENT
END:VCALENDAR