BEGIN:VCALENDAR
VERSION:2.0
PRODID:-//DIOCESI DI ROMA - ECPv4.6.14.1//NONSGML v1.0//EN
CALSCALE:GREGORIAN
METHOD:PUBLISH
X-WR-CALNAME:DIOCESI DI ROMA
X-ORIGINAL-URL:https://www.diocesidiroma.it
X-WR-CALDESC:Eventi per DIOCESI DI ROMA
BEGIN:VEVENT
DTSTART;TZID=Europe/Rome:20181120T190000
DTEND;TZID=Europe/Rome:20181120T190000
DTSTAMP:20260421T071957
CREATED:20181115T090932Z
LAST-MODIFIED:20181115T090932Z
UID:5531-1542740400-1542740400@www.diocesidiroma.it
SUMMARY:Celebra la Messa nella parrocchia di Sant'Eligio
DESCRIPTION:Celebra la Messa nella parrocchia di Sant’Eligio. \n
URL:https://www.diocesidiroma.it/event/celebra-la-messa-nella-parrocchia-di-santeligio/
CATEGORIES:NON USARE --- Agenda del Vicario
END:VEVENT
END:VCALENDAR