BEGIN:VCALENDAR
VERSION:2.0
PRODID:-//DIOCESI DI ROMA - ECPv4.6.14.1//NONSGML v1.0//EN
CALSCALE:GREGORIAN
METHOD:PUBLISH
X-WR-CALNAME:DIOCESI DI ROMA
X-ORIGINAL-URL:https://www.diocesidiroma.it
X-WR-CALDESC:Eventi per DIOCESI DI ROMA
BEGIN:VEVENT
DTSTART;TZID=Europe/Rome:20211128T120000
DTEND;TZID=Europe/Rome:20211128T120000
DTSTAMP:20260421T090414
CREATED:20211119T104221Z
LAST-MODIFIED:20211119T104221Z
UID:19106-1638100800-1638100800@www.diocesidiroma.it
SUMMARY:Celebra la Messa nella parrocchia di Sant’Enrico in occasione della visita pastorale
DESCRIPTION:Celebra la Messa nella parrocchia di Sant’Enrico in occasione della visita pastorale. \n
URL:https://www.diocesidiroma.it/event/celebra-la-messa-nella-parrocchia-di-santenrico-in-occasione-della-visita-pastorale/
CATEGORIES:NON USARE --- Agenda del Vicario
END:VEVENT
END:VCALENDAR