BEGIN:VCALENDAR
VERSION:2.0
PRODID:-//DIOCESI DI ROMA - ECPv4.6.14.1//NONSGML v1.0//EN
CALSCALE:GREGORIAN
METHOD:PUBLISH
X-WR-CALNAME:DIOCESI DI ROMA
X-ORIGINAL-URL:https://www.diocesidiroma.it
X-WR-CALDESC:Eventi per DIOCESI DI ROMA
BEGIN:VEVENT
DTSTART;TZID=Europe/Rome:20201208T103000
DTEND;TZID=Europe/Rome:20201208T103000
DTSTAMP:20260421T115723
CREATED:20201204T134221Z
LAST-MODIFIED:20201204T134221Z
UID:12696-1607423400-1607423400@www.diocesidiroma.it
SUMMARY:Celebra la Messa nella parrocchia di Sant’Eusebio all’Esquilino
DESCRIPTION:Celebra la Messa nella parrocchia di Sant’Eusebio all’Esquilino. \n
URL:https://www.diocesidiroma.it/event/celebra-la-messa-nella-parrocchia-di-santeusebio-allesquilino/
CATEGORIES:NON USARE --- Agenda del Vicario
END:VEVENT
END:VCALENDAR