BEGIN:VCALENDAR
VERSION:2.0
PRODID:-//DIOCESI DI ROMA - ECPv4.6.14.1//NONSGML v1.0//EN
CALSCALE:GREGORIAN
METHOD:PUBLISH
X-WR-CALNAME:DIOCESI DI ROMA
X-ORIGINAL-URL:https://www.diocesidiroma.it
X-WR-CALDESC:Eventi per DIOCESI DI ROMA
BEGIN:VEVENT
DTSTART;TZID=Europe/Rome:20230303T183000
DTEND;TZID=Europe/Rome:20230303T183000
DTSTAMP:20260424T020441
CREATED:20230224T085754Z
LAST-MODIFIED:20230224T085754Z
UID:25422-1677868200-1677868200@www.diocesidiroma.it
SUMMARY:Celebra la Messa nella parrocchia Resurrezione di Nostro Signore Gesù Cristo in occasione del 60° anniversario di erezione
DESCRIPTION:Celebra la Messa nella parrocchia Resurrezione di Nostro Signore Gesù Cristo in occasione del 60° anniversario di erezione.  \n
URL:https://www.diocesidiroma.it/event/celebra-la-messa-nella-parrocchia-resurrezione-di-nostro-signore-gesu-cristo-in-occasione-del-60-anniversario-di-erezione/
CATEGORIES:NON USARE --- Agenda del Vicario
END:VEVENT
END:VCALENDAR