BEGIN:VCALENDAR
VERSION:2.0
PRODID:-//DIOCESI DI ROMA - ECPv4.6.14.1//NONSGML v1.0//EN
CALSCALE:GREGORIAN
METHOD:PUBLISH
X-WR-CALNAME:DIOCESI DI ROMA
X-ORIGINAL-URL:https://www.diocesidiroma.it
X-WR-CALDESC:Eventi per DIOCESI DI ROMA
BEGIN:VEVENT
DTSTART;TZID=Europe/Rome:20200927T113000
DTEND;TZID=Europe/Rome:20200927T123000
DTSTAMP:20260421T092210
CREATED:20200918T104223Z
LAST-MODIFIED:20200918T104223Z
UID:11729-1601206200-1601209800@www.diocesidiroma.it
SUMMARY:Celebra la Messa nella Parrocchia S. Andrea Apostolo
DESCRIPTION:Celebra la Messa nella Parrocchia S. Andrea Apostolo. \n
URL:https://www.diocesidiroma.it/event/celebra-la-messa-nella-parrocchia-s-andrea-apostolo/
CATEGORIES:NON USARE --- Agenda del Vicario
END:VEVENT
END:VCALENDAR