BEGIN:VCALENDAR
VERSION:2.0
PRODID:-//DIOCESI DI ROMA - ECPv4.6.14.1//NONSGML v1.0//EN
CALSCALE:GREGORIAN
METHOD:PUBLISH
X-WR-CALNAME:DIOCESI DI ROMA
X-ORIGINAL-URL:https://www.diocesidiroma.it
X-WR-CALDESC:Eventi per DIOCESI DI ROMA
BEGIN:VEVENT
DTSTART;TZID=Europe/Rome:20190513T210000
DTEND;TZID=Europe/Rome:20190513T210000
DTSTAMP:20260424T020441
CREATED:20190510T081749Z
LAST-MODIFIED:20190510T081749Z
UID:7543-1557781200-1557781200@www.diocesidiroma.it
SUMMARY:Celebra la Messa nella parrocchia Sacra Famiglia a Villa Troili in occasione della memoria della prima apparizione della Madonna di Fatima
DESCRIPTION:Celebra la Messa nella parrocchia Sacra Famiglia a Villa Troili in occasione della memoria della prima apparizione della Madonna di Fatima. \n
URL:https://www.diocesidiroma.it/event/celebra-la-messa-nella-parrocchia-sacra-famiglia-a-villa-troili-in-occasione-della-memoria-della-prima-apparizione-della-madonna-di-fatima/
CATEGORIES:NON USARE --- Agenda del Vicario
END:VEVENT
END:VCALENDAR