BEGIN:VCALENDAR
VERSION:2.0
PRODID:-//DIOCESI DI ROMA - ECPv4.6.14.1//NONSGML v1.0//EN
CALSCALE:GREGORIAN
METHOD:PUBLISH
X-WR-CALNAME:DIOCESI DI ROMA
X-ORIGINAL-URL:https://www.diocesidiroma.it
X-WR-CALDESC:Eventi per DIOCESI DI ROMA
BEGIN:VEVENT
DTSTART;TZID=Europe/Rome:20210704T100000
DTEND;TZID=Europe/Rome:20210704T100000
DTSTAMP:20260423T164134
CREATED:20210701T103856Z
LAST-MODIFIED:20210701T103856Z
UID:16761-1625392800-1625392800@www.diocesidiroma.it
SUMMARY:Celebra la messa nella Parrocchia San Leonardo da Porto Maurizio
DESCRIPTION:Celebra la messa nella Parrocchia San Leonardo da Porto Maurizio. \n
URL:https://www.diocesidiroma.it/event/celebra-la-messa-nella-parrocchia-san-leonardo-da-porto-maurizio/
CATEGORIES:NON USARE --- Agenda del Vicario
END:VEVENT
END:VCALENDAR