BEGIN:VCALENDAR
VERSION:2.0
PRODID:-//DIOCESI DI ROMA - ECPv4.6.14.1//NONSGML v1.0//EN
CALSCALE:GREGORIAN
METHOD:PUBLISH
X-WR-CALNAME:DIOCESI DI ROMA
X-ORIGINAL-URL:https://www.diocesidiroma.it
X-WR-CALDESC:Eventi per DIOCESI DI ROMA
BEGIN:VEVENT
DTSTART;TZID=Europe/Rome:20190613T190000
DTEND;TZID=Europe/Rome:20190613T190000
DTSTAMP:20260421T025821
CREATED:20190607T094504Z
LAST-MODIFIED:20190607T094504Z
UID:7789-1560452400-1560452400@www.diocesidiroma.it
SUMMARY:Celebra la Messa nella parrocchia SS.ma Trinità a Lunghezza in occasione dell’80° anniversario della parrocchia
DESCRIPTION:Celebra la Messa nella parrocchia SS.ma Trinità a Lunghezza in occasione dell’80° anniversario della parrocchia.  \n
URL:https://www.diocesidiroma.it/event/celebra-la-messa-nella-parrocchia-ss-ma-trinita-a-lunghezza-in-occasione-dell80-anniversario-della-parrocchia/
CATEGORIES:NON USARE --- Agenda del Vicario
END:VEVENT
END:VCALENDAR