BEGIN:VCALENDAR
VERSION:2.0
PRODID:-//DIOCESI DI ROMA - ECPv4.6.14.1//NONSGML v1.0//EN
CALSCALE:GREGORIAN
METHOD:PUBLISH
X-WR-CALNAME:DIOCESI DI ROMA
X-ORIGINAL-URL:https://www.diocesidiroma.it
X-WR-CALDESC:Eventi per DIOCESI DI ROMA
BEGIN:VEVENT
DTSTART;TZID=Europe/Rome:20210309T180000
DTEND;TZID=Europe/Rome:20210309T180000
DTSTAMP:20260421T095615
CREATED:20210305T094046Z
LAST-MODIFIED:20210305T094046Z
UID:14077-1615312800-1615312800@www.diocesidiroma.it
SUMMARY:Celebra la Messa nella rettoria di Santa Francesca Romana al Palatino in occasione della festa patronale
DESCRIPTION:Celebra la Messa nella rettoria di Santa Francesca Romana al Palatino in occasione della festa patronale. \n
URL:https://www.diocesidiroma.it/event/celebra-la-messa-nella-rettoria-di-santa-francesca-romana-al-palatino-in-occasione-della-festa-patronale/
CATEGORIES:NON USARE --- Agenda del Vicario
END:VEVENT
END:VCALENDAR