BEGIN:VCALENDAR
VERSION:2.0
PRODID:-//DIOCESI DI ROMA - ECPv4.6.14.1//NONSGML v1.0//EN
CALSCALE:GREGORIAN
METHOD:PUBLISH
X-WR-CALNAME:DIOCESI DI ROMA
X-ORIGINAL-URL:https://www.diocesidiroma.it
X-WR-CALDESC:Eventi per DIOCESI DI ROMA
BEGIN:VEVENT
DTSTART;TZID=Europe/Rome:20181220T133000
DTEND;TZID=Europe/Rome:20181220T133000
DTSTAMP:20260422T112807
CREATED:20181214T091505Z
LAST-MODIFIED:20181214T091505Z
UID:5871-1545312600-1545312600@www.diocesidiroma.it
SUMMARY:Celebra la Messa nella sede dell’Acea in occasione Natale
DESCRIPTION:Celebra la Messa nella sede dell’Acea in occasione Natale. \n
URL:https://www.diocesidiroma.it/event/celebra-la-messa-nella-sede-dellacea-in-occasione-natale/
CATEGORIES:NON USARE --- Agenda del Vicario
END:VEVENT
END:VCALENDAR